BEGIN:VCALENDAR
VERSION:2.0
PRODID:-//Golden Crescent CASA, Inc. - ECPv6.15.18//NONSGML v1.0//EN
CALSCALE:GREGORIAN
METHOD:PUBLISH
X-WR-CALNAME:Golden Crescent CASA, Inc.
X-ORIGINAL-URL:https://goldencrescentcasa.org
X-WR-CALDESC:Events for Golden Crescent CASA, Inc.
REFRESH-INTERVAL;VALUE=DURATION:PT1H
X-Robots-Tag:noindex
X-PUBLISHED-TTL:PT1H
BEGIN:VTIMEZONE
TZID:America/Denver
BEGIN:DAYLIGHT
TZOFFSETFROM:-0700
TZOFFSETTO:-0600
TZNAME:MDT
DTSTART:20230312T090000
END:DAYLIGHT
BEGIN:STANDARD
TZOFFSETFROM:-0600
TZOFFSETTO:-0700
TZNAME:MST
DTSTART:20231105T080000
END:STANDARD
BEGIN:DAYLIGHT
TZOFFSETFROM:-0700
TZOFFSETTO:-0600
TZNAME:MDT
DTSTART:20240310T090000
END:DAYLIGHT
BEGIN:STANDARD
TZOFFSETFROM:-0600
TZOFFSETTO:-0700
TZNAME:MST
DTSTART:20241103T080000
END:STANDARD
BEGIN:DAYLIGHT
TZOFFSETFROM:-0700
TZOFFSETTO:-0600
TZNAME:MDT
DTSTART:20250309T090000
END:DAYLIGHT
BEGIN:STANDARD
TZOFFSETFROM:-0600
TZOFFSETTO:-0700
TZNAME:MST
DTSTART:20251102T080000
END:STANDARD
END:VTIMEZONE
BEGIN:VEVENT
DTSTART;TZID=America/Denver:20241101T180000
DTEND;TZID=America/Denver:20241101T210000
DTSTAMP:20260421T001914
CREATED:20240919T200223Z
LAST-MODIFIED:20240919T200223Z
UID:1358-1730484000-1730494800@goldencrescentcasa.org
SUMMARY:Golden Crescent CASA's 16th Annual Wine Pairing
DESCRIPTION:Mark your calendars and join Golden Crescent CASA for our 16th Annual Wine Pairing! This event will include appetizers\, a signature drink\, a four-course menu with various paired wines\, a live and silent auction and entertainment. Invite your friends to help support our great cause! Click the link to get your tickets today! GOLDEN CRESCENT COURT APPOINTED SPECIAL ADVOCATES INC – Golden Crescent CASA Annual Wine Pairing (networkforgood.com)
URL:https://goldencrescentcasa.org/event/golden-crescent-casas-16th-annual-wine-pairing/
LOCATION:VCC\, 14 Spring Creek Rd\, Victoria\, TX\, 77904\, United States
END:VEVENT
BEGIN:VEVENT
DTSTART;TZID=America/Denver:20241106T120000
DTEND;TZID=America/Denver:20241106T133000
DTSTAMP:20260421T001914
CREATED:20241118T193251Z
LAST-MODIFIED:20241118T193251Z
UID:1399-1730894400-1730899800@goldencrescentcasa.org
SUMMARY:November Lunch & Learn
DESCRIPTION:Click the link to view on YouTube: https://youtu.be/x66yX4_YFVo?si=MlmK_2-gAd1IC0aq \n 
URL:https://goldencrescentcasa.org/event/november-lunch-learn/
LOCATION:TX
END:VEVENT
BEGIN:VEVENT
DTSTART;TZID=America/Denver:20241118T080000
DTEND;TZID=America/Denver:20241118T170000
DTSTAMP:20260421T001914
CREATED:20241118T195842Z
LAST-MODIFIED:20241118T195842Z
UID:1405-1731916800-1731949200@goldencrescentcasa.org
SUMMARY:
DESCRIPTION:Come out and hang with the crew at Target to greet customers and let them know about our organization while we help collect toys. \nPlease click on the following web link (or copy it into your web browser if clicking doesn’t work) to go to the signup sheet: \nvolunteersignup.org/YEYRJ \nCall me if you have additional questions. Charlene 361.649.2575
URL:https://goldencrescentcasa.org/event/1405/
LOCATION:TX
END:VEVENT
END:VCALENDAR