BEGIN:VCALENDAR
VERSION:2.0
PRODID:-//Golden Crescent CASA, Inc. - ECPv6.15.18//NONSGML v1.0//EN
CALSCALE:GREGORIAN
METHOD:PUBLISH
X-ORIGINAL-URL:https://goldencrescentcasa.org
X-WR-CALDESC:Events for Golden Crescent CASA, Inc.
REFRESH-INTERVAL;VALUE=DURATION:PT1H
X-Robots-Tag:noindex
X-PUBLISHED-TTL:PT1H
BEGIN:VTIMEZONE
TZID:America/Denver
BEGIN:DAYLIGHT
TZOFFSETFROM:-0700
TZOFFSETTO:-0600
TZNAME:MDT
DTSTART:20230312T090000
END:DAYLIGHT
BEGIN:STANDARD
TZOFFSETFROM:-0600
TZOFFSETTO:-0700
TZNAME:MST
DTSTART:20231105T080000
END:STANDARD
BEGIN:DAYLIGHT
TZOFFSETFROM:-0700
TZOFFSETTO:-0600
TZNAME:MDT
DTSTART:20240310T090000
END:DAYLIGHT
BEGIN:STANDARD
TZOFFSETFROM:-0600
TZOFFSETTO:-0700
TZNAME:MST
DTSTART:20241103T080000
END:STANDARD
BEGIN:DAYLIGHT
TZOFFSETFROM:-0700
TZOFFSETTO:-0600
TZNAME:MDT
DTSTART:20250309T090000
END:DAYLIGHT
BEGIN:STANDARD
TZOFFSETFROM:-0600
TZOFFSETTO:-0700
TZNAME:MST
DTSTART:20251102T080000
END:STANDARD
END:VTIMEZONE
BEGIN:VEVENT
DTSTART;TZID=America/Denver:20241015T173000
DTEND;TZID=America/Denver:20241015T203000
DTSTAMP:20260421T014840
CREATED:20240919T201136Z
LAST-MODIFIED:20240919T201136Z
UID:1361-1729013400-1729024200@goldencrescentcasa.org
SUMMARY:New CASA Volunteer Training
DESCRIPTION:A CASA volunteer is a court-appointed special advocate who is 21 years of age or older. They must pass a full background check and be willing to travel. CASA’s are trained and committed adult who ensures that each child’s individual needs remain a priority in an overburdened child welfare system. They get to know the child while also gathering information from the child’s family\, teachers\, doctors\, therapists\, caregivers\, and anyone else involved in the child’s life in order to make independent and informed recommendations that will help the judge decide what’s best for the child. Join our team and help a child in need. \nTraining is held quarterly for new volunteers. Our next training October 15\, 17\, 22 & 24 from 5:30 PM – 8:30 PM at The Crossing – 404 N. Bridge St.\, Victoria\, TX 77901. \nSnacks and refreshments are served. Call our office (361.573.3734) if you would like more information or to schedule an interview for a volunteer position.
URL:https://goldencrescentcasa.org/event/new-casa-volunteer-training-4/
LOCATION:The Crossing\, 404 N Bridge St\, Victoria\, TX\, 77901\, United States
END:VEVENT
BEGIN:VEVENT
DTSTART;TZID=America/Denver:20241017T173000
DTEND;TZID=America/Denver:20241017T203000
DTSTAMP:20260421T014840
CREATED:20240919T201639Z
LAST-MODIFIED:20240919T202149Z
UID:1363-1729186200-1729197000@goldencrescentcasa.org
SUMMARY:New CASA Volunteer Training
DESCRIPTION:Training Session 2 for new volunteers is from 5:30 PM – 8:30 PM at The Crossing – 404 N. Bridge St.\, Victoria\, TX 77901. Training is held quarterly for new volunteers. Our training starts October 15\, 17\, 22 & 24 from 5:30 PM – 8:30 PM at The Crossing – 404 N. Bridge St.\, Victoria\, TX 77901. Our staff trainers are flexible\, and volunteer focused so If you missed the first class but would like to get started then just stop by or give us a call\, 361-649-2575. Snacks and refreshments are provided. \nCall our office (361.573.3734) if you would like more information or to schedule an interview for a volunteer position.
URL:https://goldencrescentcasa.org/event/new-casa-volunteer-training-5/
LOCATION:The Crossing\, 404 N Bridge St\, Victoria\, TX\, 77901\, United States
END:VEVENT
BEGIN:VEVENT
DTSTART;TZID=America/Denver:20241022T173000
DTEND;TZID=America/Denver:20241022T203000
DTSTAMP:20260421T014840
CREATED:20240919T202932Z
LAST-MODIFIED:20240919T203107Z
UID:1367-1729618200-1729629000@goldencrescentcasa.org
SUMMARY:New CASA Volunteer Training
DESCRIPTION:Training session 3. Training is held quarterly for new volunteers at The Crossing – 404 N. Bridge St.\, Victoria\, TX 77901. However\, we do offer flexible training to fit your needs. Call our office (361.573.3734) if you would like more information or to schedule an interview for a volunteer position. It is never too late to attend training. Just complete an application online then call our office and speak with staff to schedule an interview.
URL:https://goldencrescentcasa.org/event/new-volunteer-training-10/
LOCATION:The Crossing\, 404 N Bridge St\, Victoria\, TX\, 77901\, United States
END:VEVENT
BEGIN:VEVENT
DTSTART;TZID=America/Denver:20241024T173000
DTEND;TZID=America/Denver:20241024T203000
DTSTAMP:20260421T014840
CREATED:20240919T203732Z
LAST-MODIFIED:20240919T203732Z
UID:1370-1729791000-1729801800@goldencrescentcasa.org
SUMMARY:New CASA Volunteer Training
DESCRIPTION:Training session 4. Training is held quarterly for new volunteers at The Crossing – 404 N. Bridge St.\, Victoria\, TX 77901. However\, we do offer flexible training to fit your needs. Call our office (361.573.3734) if you would like more information or to schedule an interview for a volunteer position. It is never too late to attend training. Just complete an application online then call our office and speak with staff to schedule an interview. \n 
URL:https://goldencrescentcasa.org/event/new-casa-volunteer-training-6/
LOCATION:VCC\, 14 Spring Creek Rd\, Victoria\, TX\, 77904\, United States
END:VEVENT
END:VCALENDAR