BEGIN:VCALENDAR
VERSION:2.0
PRODID:-//Golden Crescent CASA, Inc. - ECPv6.15.18//NONSGML v1.0//EN
CALSCALE:GREGORIAN
METHOD:PUBLISH
X-ORIGINAL-URL:https://goldencrescentcasa.org
X-WR-CALDESC:Events for Golden Crescent CASA, Inc.
REFRESH-INTERVAL;VALUE=DURATION:PT1H
X-Robots-Tag:noindex
X-PUBLISHED-TTL:PT1H
BEGIN:VTIMEZONE
TZID:America/Denver
BEGIN:DAYLIGHT
TZOFFSETFROM:-0700
TZOFFSETTO:-0600
TZNAME:MDT
DTSTART:20230312T090000
END:DAYLIGHT
BEGIN:STANDARD
TZOFFSETFROM:-0600
TZOFFSETTO:-0700
TZNAME:MST
DTSTART:20231105T080000
END:STANDARD
BEGIN:DAYLIGHT
TZOFFSETFROM:-0700
TZOFFSETTO:-0600
TZNAME:MDT
DTSTART:20240310T090000
END:DAYLIGHT
BEGIN:STANDARD
TZOFFSETFROM:-0600
TZOFFSETTO:-0700
TZNAME:MST
DTSTART:20241103T080000
END:STANDARD
BEGIN:DAYLIGHT
TZOFFSETFROM:-0700
TZOFFSETTO:-0600
TZNAME:MDT
DTSTART:20250309T090000
END:DAYLIGHT
BEGIN:STANDARD
TZOFFSETFROM:-0600
TZOFFSETTO:-0700
TZNAME:MST
DTSTART:20251102T080000
END:STANDARD
END:VTIMEZONE
BEGIN:VEVENT
DTSTART;TZID=America/Denver:20240919T173000
DTEND;TZID=America/Denver:20240919T183000
DTSTAMP:20260421T032435
CREATED:20240919T192602Z
LAST-MODIFIED:20240919T192602Z
UID:1351-1726767000-1726770600@goldencrescentcasa.org
SUMMARY:Peer to Peer
DESCRIPTION:. \nThis is a support group that meets on the third Thursday of each month. Come hang out with tenured volunteers while having an open discussion about child advocacy obstacles and best practices at the Crossing\, 404 N. Bridge St\, Victoria 77901\, from 5:30 pm – 6:30 pm
URL:https://goldencrescentcasa.org/event/peer-to-peer-5/
LOCATION:The Crossing\, 404 N Bridge St\, Victoria\, TX\, 77901\, United States
END:VEVENT
BEGIN:VEVENT
DTSTART;TZID=America/Denver:20240921T110000
DTEND;TZID=America/Denver:20240921T140000
DTSTAMP:20260421T032435
CREATED:20240919T205132Z
LAST-MODIFIED:20240919T205132Z
UID:1372-1726916400-1726927200@goldencrescentcasa.org
SUMMARY:United Way Family Fun Day
DESCRIPTION:CASA will be at the United Way of Calhoun County Family Fun Day. We will have an informational booth for community awareness Saturday\, September 21\, 2024\, from 11am – 2pm at Bayfront Peninsula.
URL:https://goldencrescentcasa.org/event/united-way-family-fun-day/
LOCATION:Bayfront Peninsula Park\, Port Lavaca\, TX\, 77979\, United States
END:VEVENT
BEGIN:VEVENT
DTSTART;TZID=America/Denver:20240921T150000
DTEND;TZID=America/Denver:20240921T180000
DTSTAMP:20260421T032435
CREATED:20240919T195113Z
LAST-MODIFIED:20240919T195113Z
UID:1355-1726930800-1726941600@goldencrescentcasa.org
SUMMARY:Outreach Event - National Night Out
DESCRIPTION:CASA staff and volunteers will have an informational booth for community awareness and recruiting new volunteers while engaging with children and families. Please join your community and the free amenities provided by the Victoria Police Department\, community organizations\, and local vendors.
URL:https://goldencrescentcasa.org/event/outreach-event-national-night-out/
LOCATION:TX
END:VEVENT
END:VCALENDAR