BEGIN:VCALENDAR
VERSION:2.0
PRODID:-//Golden Crescent CASA, Inc. - ECPv6.15.18//NONSGML v1.0//EN
CALSCALE:GREGORIAN
METHOD:PUBLISH
X-WR-CALNAME:Golden Crescent CASA, Inc.
X-ORIGINAL-URL:https://goldencrescentcasa.org
X-WR-CALDESC:Events for Golden Crescent CASA, Inc.
REFRESH-INTERVAL;VALUE=DURATION:PT1H
X-Robots-Tag:noindex
X-PUBLISHED-TTL:PT1H
BEGIN:VTIMEZONE
TZID:America/Denver
BEGIN:DAYLIGHT
TZOFFSETFROM:-0700
TZOFFSETTO:-0600
TZNAME:MDT
DTSTART:20230312T090000
END:DAYLIGHT
BEGIN:STANDARD
TZOFFSETFROM:-0600
TZOFFSETTO:-0700
TZNAME:MST
DTSTART:20231105T080000
END:STANDARD
BEGIN:DAYLIGHT
TZOFFSETFROM:-0700
TZOFFSETTO:-0600
TZNAME:MDT
DTSTART:20240310T090000
END:DAYLIGHT
BEGIN:STANDARD
TZOFFSETFROM:-0600
TZOFFSETTO:-0700
TZNAME:MST
DTSTART:20241103T080000
END:STANDARD
BEGIN:DAYLIGHT
TZOFFSETFROM:-0700
TZOFFSETTO:-0600
TZNAME:MDT
DTSTART:20250309T090000
END:DAYLIGHT
BEGIN:STANDARD
TZOFFSETFROM:-0600
TZOFFSETTO:-0700
TZNAME:MST
DTSTART:20251102T080000
END:STANDARD
END:VTIMEZONE
BEGIN:VEVENT
DTSTART;TZID=America/Denver:20240716T173000
DTEND;TZID=America/Denver:20240716T203000
DTSTAMP:20260421T061928
CREATED:20240508T195418Z
LAST-MODIFIED:20240508T195418Z
UID:1284-1721151000-1721161800@goldencrescentcasa.org
SUMMARY:New Volunteer Training
DESCRIPTION:A CASA volunteer is a court-appointed\, trained and committed adult who ensures that each child’s individual needs remain a priority in an overburdened child welfare system. They get to know the child while also gathering information from the child’s family\, teachers\, doctors\, therapists\, caregivers\, and anyone else involved in the child’s life in order to make independent and informed recommendations to help the judge decide what’s best for the child. \nTraining is held quarterly for new volunteers. Our next training is July 16\, 18\, 23\, and 25 from 5:30 PM – 8:30 PM at The Crossing – 404 N. Bridge St.\, Victoria\, TX 77901. A light dinner and refreshments are served. Call our office (361.573.3734) if you would like more information or to schedule an interview for a volunteer position.
URL:https://goldencrescentcasa.org/event/new-volunteer-training-8/
LOCATION:The Crossing\, 404 N Bridge St\, Victoria\, TX\, 77901\, United States
END:VEVENT
BEGIN:VEVENT
DTSTART;TZID=America/Denver:20240718T173000
DTEND;TZID=America/Denver:20240718T183000
DTSTAMP:20260421T061928
CREATED:20240508T195856Z
LAST-MODIFIED:20240508T195856Z
UID:1286-1721323800-1721327400@goldencrescentcasa.org
SUMMARY:New CASA Volunteer Training
DESCRIPTION:Training Session 2 for new volunteers is from 5:30 PM – 8:30 PM at The Crossing – 404 N. Bridge St.\, Victoria\, TX 77901.
URL:https://goldencrescentcasa.org/event/new-casa-volunteer-training-2/
LOCATION:The Crossing\, 404 N Bridge St\, Victoria\, TX\, 77901\, United States
END:VEVENT
BEGIN:VEVENT
DTSTART;TZID=America/Denver:20240723T173000
DTEND;TZID=America/Denver:20240723T203000
DTSTAMP:20260421T061928
CREATED:20240508T200206Z
LAST-MODIFIED:20240508T200341Z
UID:1288-1721755800-1721766600@goldencrescentcasa.org
SUMMARY:New Volunteer Training
DESCRIPTION:Training session 3. Training is held quarterly for new volunteers. Our next training is July 16\, 18\, 23\, and 25 from 5:30 PM – 8:30 PM at The Crossing – 404 N. Bridge St.\, Victoria\, TX 77901. A light dinner and refreshments are served. Call our office (361.573.3734) if you would like more information or to schedule an interview for a volunteer position. It is never too late to attend training. Just complete an application online then call our office and speak with staff.
URL:https://goldencrescentcasa.org/event/new-volunteer-training-9/
LOCATION:The Crossing\, 404 N Bridge St\, Victoria\, TX\, 77901\, United States
END:VEVENT
BEGIN:VEVENT
DTSTART;TZID=America/Denver:20240725T173000
DTEND;TZID=America/Denver:20240725T203000
DTSTAMP:20260421T061928
CREATED:20240508T200502Z
LAST-MODIFIED:20240508T200502Z
UID:1292-1721928600-1721939400@goldencrescentcasa.org
SUMMARY:New CASA Volunteer Training
DESCRIPTION:Training session 4. Training is held quarterly for new volunteers. Our next training is July 16\, 18\, 23\, and 25 from 5:30 PM – 8:30 PM at The Crossing – 404 N. Bridge St.\, Victoria\, TX 77901. A light dinner and refreshments are served. Call our office (361.573.3734) if you would like more information or to schedule an interview for a volunteer position. It is never too late to attend training. Just complete an application online then call our office and speak with staff.
URL:https://goldencrescentcasa.org/event/new-casa-volunteer-training-3/
LOCATION:The Crossing\, 404 N Bridge St\, Victoria\, TX\, 77901\, United States
END:VEVENT
BEGIN:VEVENT
DTSTART;TZID=America/Denver:20240729T110000
DTEND;TZID=America/Denver:20240729T190000
DTSTAMP:20260421T061928
CREATED:20240606T213853Z
LAST-MODIFIED:20240606T213853Z
UID:1307-1722250800-1722279600@goldencrescentcasa.org
SUMMARY:Community Care Event with Chick-fil-A Victoria!
DESCRIPTION:Chick-fil-A is sponsoring this community care fundraiser for Golden Crescent CASA. It’s a delicious and easy way to support our organization and your community but ALL orders must be placed using the Chick-fil-A App! Select “Support Community Care Event” then enter the code word CASA24 to contribute 20% of your purchase. The code word is case sensitive and can be used for Curbside\, Dine In\, Carry Out & Drive Thru.
URL:https://goldencrescentcasa.org/event/community-care-event-with-chick-fil-a-victoria/
LOCATION:TX
END:VEVENT
END:VCALENDAR