BEGIN:VCALENDAR
VERSION:2.0
PRODID:-//Golden Crescent CASA, Inc. - ECPv6.15.18//NONSGML v1.0//EN
CALSCALE:GREGORIAN
METHOD:PUBLISH
X-ORIGINAL-URL:https://goldencrescentcasa.org
X-WR-CALDESC:Events for Golden Crescent CASA, Inc.
REFRESH-INTERVAL;VALUE=DURATION:PT1H
X-Robots-Tag:noindex
X-PUBLISHED-TTL:PT1H
BEGIN:VTIMEZONE
TZID:America/Denver
BEGIN:DAYLIGHT
TZOFFSETFROM:-0700
TZOFFSETTO:-0600
TZNAME:MDT
DTSTART:20230312T090000
END:DAYLIGHT
BEGIN:STANDARD
TZOFFSETFROM:-0600
TZOFFSETTO:-0700
TZNAME:MST
DTSTART:20231105T080000
END:STANDARD
BEGIN:DAYLIGHT
TZOFFSETFROM:-0700
TZOFFSETTO:-0600
TZNAME:MDT
DTSTART:20240310T090000
END:DAYLIGHT
BEGIN:STANDARD
TZOFFSETFROM:-0600
TZOFFSETTO:-0700
TZNAME:MST
DTSTART:20241103T080000
END:STANDARD
BEGIN:DAYLIGHT
TZOFFSETFROM:-0700
TZOFFSETTO:-0600
TZNAME:MDT
DTSTART:20250309T090000
END:DAYLIGHT
BEGIN:STANDARD
TZOFFSETFROM:-0600
TZOFFSETTO:-0700
TZNAME:MST
DTSTART:20251102T080000
END:STANDARD
END:VTIMEZONE
BEGIN:VEVENT
DTSTART;TZID=America/Denver:20240501T120000
DTEND;TZID=America/Denver:20240501T130000
DTSTAMP:20260421T094318
CREATED:20240508T143918Z
LAST-MODIFIED:20240508T143936Z
UID:1265-1714564800-1714568400@goldencrescentcasa.org
SUMMARY:Monthly Luncheon
DESCRIPTION:Join us for our monthly luncheon at 407 N Bridge Street\, Victoria\, Texas 77901 from 12 noon to 1 pm. Guest speaker will be Wade Zedaker\, Region 3 Early Childhood Intervention Public Outreach Specialist.
URL:https://goldencrescentcasa.org/event/1265/
LOCATION:TX
END:VEVENT
BEGIN:VEVENT
DTSTART;TZID=America/Denver:20240504T070000
DTEND;TZID=America/Denver:20240504T100000
DTSTAMP:20260421T094318
CREATED:20240508T144823Z
LAST-MODIFIED:20240508T144823Z
UID:1268-1714806000-1714816800@goldencrescentcasa.org
SUMMARY:Community Outreach
DESCRIPTION:CASA will attend the Gulf Bend Mental Health Awareness event at the Riverside Park from 7am – 10 am. Come out and get valuable information from your community partners.
URL:https://goldencrescentcasa.org/event/community-outreach/
LOCATION:TX
END:VEVENT
BEGIN:VEVENT
DTSTART;TZID=America/Denver:20240511T103000
DTEND;TZID=America/Denver:20240511T140000
DTSTAMP:20260421T094318
CREATED:20240504T044615Z
LAST-MODIFIED:20240508T193819Z
UID:1259-1715423400-1715436000@goldencrescentcasa.org
SUMMARY:Mother's Day Brunch
DESCRIPTION:A mother can look different in each child’s eyes. Join us as we shower all mothers\, grandmothers\, aunts\, foster mothers and motherly figures with love for the sacrifices they make for the children in our lives. Children are our message to the future\, each of you guide them to building brighter tomorrows. 
URL:https://goldencrescentcasa.org/event/mothers-day-brunch-mdb-mothers-day-gift/
LOCATION:TX
END:VEVENT
BEGIN:VEVENT
DTSTART;TZID=America/Denver:20240516T173000
DTEND;TZID=America/Denver:20240516T183000
DTSTAMP:20260421T094318
CREATED:20240508T183101Z
LAST-MODIFIED:20240508T183101Z
UID:1276-1715880600-1715884200@goldencrescentcasa.org
SUMMARY:Peer to Peer
DESCRIPTION:. \nThis is a support group that meets each month. Come hang out with tenured volunteers while having an open discussion about child advocacy obstacles and best practices at the Crossing\, 404 N. Bridge St\, Victoria 77901\, from 5:30 pm – 6:30 pm.
URL:https://goldencrescentcasa.org/event/peer-to-peer-child-advocacy-casa-court-appointed-special-advocate-speak-up-for-kids/
LOCATION:The Crossing\, 404 N Bridge St\, Victoria\, TX\, 77901\, United States
END:VEVENT
BEGIN:VEVENT
DTSTART;TZID=America/Denver:20240520T173000
DTEND;TZID=America/Denver:20240520T183000
DTSTAMP:20260421T094318
CREATED:20240411T165841Z
LAST-MODIFIED:20240411T165841Z
UID:1253-1716226200-1716229800@goldencrescentcasa.org
SUMMARY:Golden Crescent CASA Cross County Tour
DESCRIPTION:Discover the realm of CASA alongside Volunteer Lynda Owens and Board Member Nick Perez at the Jackson County Public Library. Listen to their inspiring tales of change and perseverance\, highlighting the profound effect of communal aid. Participate in the mission to renew hope and integrity for children and families facing adversity—because united\, we have the power to forge a more promising tomorrow for the youth in the Golden Crescent region.
URL:https://goldencrescentcasa.org/event/golden-crescent-casa-cross-county-tour/
LOCATION:TX
END:VEVENT
BEGIN:VEVENT
DTSTART;TZID=America/Denver:20240521T170000
DTEND;TZID=America/Denver:20240521T220000
DTSTAMP:20260421T094318
CREATED:20240508T185406Z
LAST-MODIFIED:20240508T185406Z
UID:1279-1716310800-1716328800@goldencrescentcasa.org
SUMMARY:CASA Night at El Paso T&T
DESCRIPTION:Join Golden Crescent CASA at El Paso T&T restaurant in downtown Victoria and be the Tequila to our Taco! El Paso Restaurant is a ‘Friend of CASA’ and is donating 10% of all sales directly back to our non-profit organization! Show your support for GCCASA Tuesday\, May 21\, 2024\, from 5pm – 10pm!
URL:https://goldencrescentcasa.org/event/casa-night-at-el-paso-tt-2-dine-to-donate-fundraiser-nonprofit-funding-taco-tuesday/
LOCATION:El Paso Tacos & Tequila – Victoria TX\, 212 S Main St\, Victoria\, TX\, 77901\, United States
END:VEVENT
BEGIN:VEVENT
DTSTART;TZID=America/Denver:20240524T090000
DTEND;TZID=America/Denver:20240524T100000
DTSTAMP:20260421T094318
CREATED:20240508T200818Z
LAST-MODIFIED:20240508T200818Z
UID:1294-1716541200-1716544800@goldencrescentcasa.org
SUMMARY:New Volunteer Swear-In Ceremony
DESCRIPTION:Join us at the Victoria Courthouse at 8:45 am to congratulate these new volunteers as they embark on their CASA journey. We can do little alone but together we can do so much more!
URL:https://goldencrescentcasa.org/event/new-volunteer-swear-in-ceremony/
LOCATION:TX
END:VEVENT
BEGIN:VEVENT
DTSTART;VALUE=DATE:20240527
DTEND;VALUE=DATE:20240528
DTSTAMP:20260421T094318
CREATED:20240508T145349Z
LAST-MODIFIED:20240508T145349Z
UID:1270-1716768000-1716854399@goldencrescentcasa.org
SUMMARY:Memorial Day
DESCRIPTION:Office is closed in observance of Memorial Day.
URL:https://goldencrescentcasa.org/event/memorial-day/
LOCATION:TX
END:VEVENT
END:VCALENDAR