BEGIN:VCALENDAR
VERSION:2.0
PRODID:-//Golden Crescent CASA, Inc. - ECPv6.15.18//NONSGML v1.0//EN
CALSCALE:GREGORIAN
METHOD:PUBLISH
X-WR-CALNAME:Golden Crescent CASA, Inc.
X-ORIGINAL-URL:https://goldencrescentcasa.org
X-WR-CALDESC:Events for Golden Crescent CASA, Inc.
REFRESH-INTERVAL;VALUE=DURATION:PT1H
X-Robots-Tag:noindex
X-PUBLISHED-TTL:PT1H
BEGIN:VTIMEZONE
TZID:America/Denver
BEGIN:DAYLIGHT
TZOFFSETFROM:-0700
TZOFFSETTO:-0600
TZNAME:MDT
DTSTART:20230312T090000
END:DAYLIGHT
BEGIN:STANDARD
TZOFFSETFROM:-0600
TZOFFSETTO:-0700
TZNAME:MST
DTSTART:20231105T080000
END:STANDARD
BEGIN:DAYLIGHT
TZOFFSETFROM:-0700
TZOFFSETTO:-0600
TZNAME:MDT
DTSTART:20240310T090000
END:DAYLIGHT
BEGIN:STANDARD
TZOFFSETFROM:-0600
TZOFFSETTO:-0700
TZNAME:MST
DTSTART:20241103T080000
END:STANDARD
BEGIN:DAYLIGHT
TZOFFSETFROM:-0700
TZOFFSETTO:-0600
TZNAME:MDT
DTSTART:20250309T090000
END:DAYLIGHT
BEGIN:STANDARD
TZOFFSETFROM:-0600
TZOFFSETTO:-0700
TZNAME:MST
DTSTART:20251102T080000
END:STANDARD
END:VTIMEZONE
BEGIN:VEVENT
DTSTART;TZID=America/Denver:20240403T120000
DTEND;TZID=America/Denver:20240403T133000
DTSTAMP:20260421T112227
CREATED:20240405T171058Z
LAST-MODIFIED:20240405T171058Z
UID:1227-1712145600-1712151000@goldencrescentcasa.org
SUMMARY:April Monthly Luncheon
DESCRIPTION:It’s volunteer appreciation month so come hang out with CASA and learn self-care tips from Lane Johnson from Gulf Bend. Food and refreshments provided so just bring yourself and a friend!
URL:https://goldencrescentcasa.org/event/april-monthly-luncheon/
LOCATION:TX
END:VEVENT
BEGIN:VEVENT
DTSTART;TZID=America/Denver:20240405T110000
DTEND;TZID=America/Denver:20240405T210000
DTSTAMP:20260421T112227
CREATED:20240405T170348Z
LAST-MODIFIED:20240405T170434Z
UID:1222-1712314800-1712350800@goldencrescentcasa.org
SUMMARY:Peter Piper Fundraiser
DESCRIPTION:Join us 4/05/2024 for a delicious meal and support a great cause! MENTION CASA at the register and 15% of your total sales will go towards helping children in need. Plus\, as a thank you\, you’ll receive FREE ICE CREAM! Don’t miss out on this opportunity to make a difference while enjoying a tasty meal. See you there! #MakeADifference #Donate #supportCASA #giveback #eatforacause
URL:https://goldencrescentcasa.org/event/peter-piper-fundraiser/
LOCATION:Peter Piper Pizza\, 3603 N Navarro St\, Victoria\, 77901\, United States
END:VEVENT
BEGIN:VEVENT
DTSTART;TZID=America/Denver:20240406T100000
DTEND;TZID=America/Denver:20240406T140000
DTSTAMP:20260421T112227
CREATED:20240405T171935Z
LAST-MODIFIED:20240405T171935Z
UID:1230-1712397600-1712412000@goldencrescentcasa.org
SUMMARY:Celebrate the Child
DESCRIPTION:The Harbor Childrens Alliance and Victim Center host Celebrate the Child in observance of Child Abuse Awareness & Prevention Month. Stop by for some family fun in the sun!
URL:https://goldencrescentcasa.org/event/celebrate-the-child/
LOCATION:TX
END:VEVENT
BEGIN:VEVENT
DTSTART;TZID=America/Denver:20240411T160000
DTEND;TZID=America/Denver:20240411T210000
DTSTAMP:20260421T112227
CREATED:20240409T171142Z
LAST-MODIFIED:20240409T171142Z
UID:1236-1712851200-1712869200@goldencrescentcasa.org
SUMMARY:Raising Cane's
DESCRIPTION:  \n \nMention Golden Crescent CASA at the register and DONATE WITH A CAUSE.
URL:https://goldencrescentcasa.org/event/raising-canes/
LOCATION:TX
END:VEVENT
BEGIN:VEVENT
DTSTART;TZID=America/Denver:20240416T173000
DTEND;TZID=America/Denver:20240416T183000
DTSTAMP:20260421T112227
CREATED:20240411T165530Z
LAST-MODIFIED:20240411T170005Z
UID:1250-1713288600-1713292200@goldencrescentcasa.org
SUMMARY:Golden Crescent CASA Cross County Tour
DESCRIPTION:Discover the realm of CASA alongside Volunteer Lynda Owens and Board Member Nick Perez at the Calhoun County Public Library. Listen to their inspiring tales of change and perseverance\, highlighting the profound effect of communal aid. Participate in the mission to renew hope and integrity for children and families facing adversity—because united\, we have the power to forge a more promising tomorrow for the youth in the Golden Crescent region.
URL:https://goldencrescentcasa.org/event/child-advocacy/
LOCATION:TX
END:VEVENT
END:VCALENDAR