BEGIN:VCALENDAR
VERSION:2.0
PRODID:-//Golden Crescent CASA, Inc. - ECPv6.15.18//NONSGML v1.0//EN
CALSCALE:GREGORIAN
METHOD:PUBLISH
X-ORIGINAL-URL:https://goldencrescentcasa.org
X-WR-CALDESC:Events for Golden Crescent CASA, Inc.
REFRESH-INTERVAL;VALUE=DURATION:PT1H
X-Robots-Tag:noindex
X-PUBLISHED-TTL:PT1H
BEGIN:VTIMEZONE
TZID:America/Denver
BEGIN:DAYLIGHT
TZOFFSETFROM:-0700
TZOFFSETTO:-0600
TZNAME:MDT
DTSTART:20230312T090000
END:DAYLIGHT
BEGIN:STANDARD
TZOFFSETFROM:-0600
TZOFFSETTO:-0700
TZNAME:MST
DTSTART:20231105T080000
END:STANDARD
BEGIN:DAYLIGHT
TZOFFSETFROM:-0700
TZOFFSETTO:-0600
TZNAME:MDT
DTSTART:20240310T090000
END:DAYLIGHT
BEGIN:STANDARD
TZOFFSETFROM:-0600
TZOFFSETTO:-0700
TZNAME:MST
DTSTART:20241103T080000
END:STANDARD
BEGIN:DAYLIGHT
TZOFFSETFROM:-0700
TZOFFSETTO:-0600
TZNAME:MDT
DTSTART:20250309T090000
END:DAYLIGHT
BEGIN:STANDARD
TZOFFSETFROM:-0600
TZOFFSETTO:-0700
TZNAME:MST
DTSTART:20251102T080000
END:STANDARD
END:VTIMEZONE
BEGIN:VEVENT
DTSTART;TZID=America/Denver:20240306T120000
DTEND;TZID=America/Denver:20240306T130000
DTSTAMP:20260421T130615
CREATED:20240301T172545Z
LAST-MODIFIED:20240301T172545Z
UID:1192-1709726400-1709730000@goldencrescentcasa.org
SUMMARY:Monthly Luncheon
DESCRIPTION: 
URL:https://goldencrescentcasa.org/event/monthly-luncheon/
LOCATION:FUMC\, 407 N. Bridge St.\, Victoria\, TX\, 77901\, United States
END:VEVENT
BEGIN:VEVENT
DTSTART;TZID=America/Denver:20240312T090000
DTEND;TZID=America/Denver:20240312T100000
DTSTAMP:20260421T130615
CREATED:20240301T170742Z
LAST-MODIFIED:20240301T171730Z
UID:1188-1710234000-1710237600@goldencrescentcasa.org
SUMMARY:Coffee with CASA Information Session
DESCRIPTION:Join CASA at the Kountry Bakery in Hallettsville to discuss volunteer opportunities and let us answer any questions you may have about our organization and what it takes to become a childhood HERO!
URL:https://goldencrescentcasa.org/event/coffee-with-casa-information-session-2/
LOCATION:Kountry Bakery\, 802 E 4th St\, Hallettsville\, TX\, 77964\, United States
END:VEVENT
BEGIN:VEVENT
DTSTART;TZID=America/Denver:20240316T100000
DTEND;TZID=America/Denver:20240316T120000
DTSTAMP:20260421T130615
CREATED:20240301T173512Z
LAST-MODIFIED:20240301T173532Z
UID:1195-1710583200-1710590400@goldencrescentcasa.org
SUMMARY:Goliad County Fair Parade
DESCRIPTION:CASA staff will be at the Goliad Parade March 16\, 2024\, at 10:30 am. Come out to help decorate and cheer us on. Meet up will be at Texas Farm Bureau Insurance\, 146 N Courthouse St.\, Goliad\, Texas 77963
URL:https://goldencrescentcasa.org/event/goliad-parade/
LOCATION:TX
END:VEVENT
BEGIN:VEVENT
DTSTART;TZID=America/Denver:20240319T170000
DTEND;TZID=America/Denver:20240319T220000
DTSTAMP:20260421T130615
CREATED:20240301T165622Z
LAST-MODIFIED:20240301T165622Z
UID:1182-1710867600-1710885600@goldencrescentcasa.org
SUMMARY:CASA Night at El Paso T&T
DESCRIPTION:Foodies unite! Save the date – March 19\, 2024\, 5pm-10pm! Join us at El Paso Tacos & Tequila – Victoria for CASA Night\, where you can indulge in delicious food while supporting our cause. Every bit helps us recruit and train more volunteers. Don’t miss out on this amazing opportunity\, see you there!
URL:https://goldencrescentcasa.org/event/casa-night-at-el-paso-tt/
LOCATION:El Paso Tacos & Tequila – Victoria TX\, 212 S Main St\, Victoria\, TX\, 77901\, United States
END:VEVENT
BEGIN:VEVENT
DTSTART;TZID=America/Denver:20240321T173000
DTEND;TZID=America/Denver:20240321T183000
DTSTAMP:20260421T130615
CREATED:20240301T170218Z
LAST-MODIFIED:20240301T170218Z
UID:1185-1711042200-1711045800@goldencrescentcasa.org
SUMMARY:Peer to Peer
DESCRIPTION:This is a support group that meets each month. Come hang out with tenured volunteers while having an open discussion about child advocacy obstacles and best practices at the Crossing\, 404 N. Bridge St\, Victoria 77901\, from 5:30 pm – 6:30 pm.
URL:https://goldencrescentcasa.org/event/peer-to-peer-3/
LOCATION:The Crossing\, 404 N Bridge St\, Victoria\, TX\, 77901\, United States
END:VEVENT
END:VCALENDAR