BEGIN:VCALENDAR
VERSION:2.0
PRODID:-//Golden Crescent CASA, Inc. - ECPv6.15.18//NONSGML v1.0//EN
CALSCALE:GREGORIAN
METHOD:PUBLISH
X-ORIGINAL-URL:https://goldencrescentcasa.org
X-WR-CALDESC:Events for Golden Crescent CASA, Inc.
REFRESH-INTERVAL;VALUE=DURATION:PT1H
X-Robots-Tag:noindex
X-PUBLISHED-TTL:PT1H
BEGIN:VTIMEZONE
TZID:America/Denver
BEGIN:DAYLIGHT
TZOFFSETFROM:-0700
TZOFFSETTO:-0600
TZNAME:MDT
DTSTART:20230312T090000
END:DAYLIGHT
BEGIN:STANDARD
TZOFFSETFROM:-0600
TZOFFSETTO:-0700
TZNAME:MST
DTSTART:20231105T080000
END:STANDARD
BEGIN:DAYLIGHT
TZOFFSETFROM:-0700
TZOFFSETTO:-0600
TZNAME:MDT
DTSTART:20240310T090000
END:DAYLIGHT
BEGIN:STANDARD
TZOFFSETFROM:-0600
TZOFFSETTO:-0700
TZNAME:MST
DTSTART:20241103T080000
END:STANDARD
BEGIN:DAYLIGHT
TZOFFSETFROM:-0700
TZOFFSETTO:-0600
TZNAME:MDT
DTSTART:20250309T090000
END:DAYLIGHT
BEGIN:STANDARD
TZOFFSETFROM:-0600
TZOFFSETTO:-0700
TZNAME:MST
DTSTART:20251102T080000
END:STANDARD
END:VTIMEZONE
BEGIN:VEVENT
DTSTART;TZID=America/Denver:20240118T173000
DTEND;TZID=America/Denver:20240118T183000
DTSTAMP:20260421T163011
CREATED:20240110T223756Z
LAST-MODIFIED:20240110T223756Z
UID:1129-1705599000-1705602600@goldencrescentcasa.org
SUMMARY:Peer to Peer
DESCRIPTION:This is a support group that meets each month. Come hang out with tenured volunteers while having an open discussion about child advocacy obstacles and best practices at the Crossing\, 404 N. Bridge St\, Victoria 77901.
URL:https://goldencrescentcasa.org/event/peer-to-peer/
LOCATION:TX
END:VEVENT
BEGIN:VEVENT
DTSTART;TZID=America/Denver:20240123T173000
DTEND;TZID=America/Denver:20240123T203000
DTSTAMP:20260421T163011
CREATED:20240122T173330Z
LAST-MODIFIED:20240122T173330Z
UID:1132-1706031000-1706041800@goldencrescentcasa.org
SUMMARY:New CASA Volunteer Training
DESCRIPTION:Training Session 1 for new volunteers is from 5:30 PM – 8:30 PM at The Crossing – 404 N. Bridge St.\, Victoria\, TX 77901.
URL:https://goldencrescentcasa.org/event/new-casa-volunteer-training/
LOCATION:The Crossing\, 404 N Bridge St\, Victoria\, TX\, 77901\, United States
END:VEVENT
BEGIN:VEVENT
DTSTART;TZID=America/Denver:20240125T173000
DTEND;TZID=America/Denver:20240125T203000
DTSTAMP:20260421T163011
CREATED:20240122T173455Z
LAST-MODIFIED:20240122T173455Z
UID:1134-1706203800-1706214600@goldencrescentcasa.org
SUMMARY:New Volunteer Training
DESCRIPTION:Training Session 2 for new volunteers is from 5:30 PM – 8:30 PM at The Crossing – 404 N. Bridge St.\, Victoria\, TX 77901.
URL:https://goldencrescentcasa.org/event/new-volunteer-training-5/
LOCATION:The Crossing\, 404 N Bridge St\, Victoria\, TX\, 77901\, United States
END:VEVENT
BEGIN:VEVENT
DTSTART;TZID=America/Denver:20240130T173000
DTEND;TZID=America/Denver:20240130T203000
DTSTAMP:20260421T163011
CREATED:20240122T174129Z
LAST-MODIFIED:20240122T174129Z
UID:1136-1706635800-1706646600@goldencrescentcasa.org
SUMMARY:New Volunteer Training
DESCRIPTION:Training Session 3 for new volunteers is from 5:30 PM – 8:30 PM at The Crossing – 404 N. Bridge St.\, Victoria\, TX 77901.
URL:https://goldencrescentcasa.org/event/new-volunteer-training-6/
LOCATION:The Crossing\, 404 N Bridge St\, Victoria\, TX\, 77901\, United States
END:VEVENT
END:VCALENDAR