BEGIN:VCALENDAR
VERSION:2.0
PRODID:-//Golden Crescent CASA, Inc. - ECPv6.15.18//NONSGML v1.0//EN
CALSCALE:GREGORIAN
METHOD:PUBLISH
X-ORIGINAL-URL:https://goldencrescentcasa.org
X-WR-CALDESC:Events for Golden Crescent CASA, Inc.
REFRESH-INTERVAL;VALUE=DURATION:PT1H
X-Robots-Tag:noindex
X-PUBLISHED-TTL:PT1H
BEGIN:VTIMEZONE
TZID:America/Denver
BEGIN:DAYLIGHT
TZOFFSETFROM:-0700
TZOFFSETTO:-0600
TZNAME:MDT
DTSTART:20220313T090000
END:DAYLIGHT
BEGIN:STANDARD
TZOFFSETFROM:-0600
TZOFFSETTO:-0700
TZNAME:MST
DTSTART:20221106T080000
END:STANDARD
BEGIN:DAYLIGHT
TZOFFSETFROM:-0700
TZOFFSETTO:-0600
TZNAME:MDT
DTSTART:20230312T090000
END:DAYLIGHT
BEGIN:STANDARD
TZOFFSETFROM:-0600
TZOFFSETTO:-0700
TZNAME:MST
DTSTART:20231105T080000
END:STANDARD
BEGIN:DAYLIGHT
TZOFFSETFROM:-0700
TZOFFSETTO:-0600
TZNAME:MDT
DTSTART:20240310T090000
END:DAYLIGHT
BEGIN:STANDARD
TZOFFSETFROM:-0600
TZOFFSETTO:-0700
TZNAME:MST
DTSTART:20241103T080000
END:STANDARD
END:VTIMEZONE
BEGIN:VEVENT
DTSTART;TZID=America/Denver:20231002T163000
DTEND;TZID=America/Denver:20231002T183000
DTSTAMP:20260421T212238
CREATED:20230804T165635Z
LAST-MODIFIED:20230921T153534Z
UID:866-1696264200-1696271400@goldencrescentcasa.org
SUMMARY:Pork Chop Dinner Fundraiser
DESCRIPTION:The Pork Chop Dinner Fundraiser is sponsored by Atzenhoffer Chevrolet to be held at their location\, 3211 N. Navarro St.\, Victoria 77904. It is a drive-through pick up only. 100% of the donation goes directly to GC CASA. $10 dinner tickets are only available from 8/15/2023 to 9/26/2023. You may call the GC CASA office at 361.573.3734 or purchase tickets at the following locations:  \nGC CASA – 101 W. Goodwin\, Ste 426\, Victoria\, TX 77901 \nDeutsch & Deutsch Jewelers – 6007 NE Zac Lentz Pkwy\, Victoria\, TX 77904 \nCole\, Cole\, Easley\, & Sciba – 302 W. Forrest St.\, Victoria\, TX 77901 \nHappie Hippie – 209 S. Main St.\, Victoria\, TX 77901 \nBumgardner Morrison – 1501 E. Mockingbird Ln.\, Suite 300\, Victoria\, TX 77904 \nPeach Perfect – 2201 N Laurent St\, Ste 100\, Victoria\, TX 77901
URL:https://goldencrescentcasa.org/event/pork-chop-dinner-fundraiser/
LOCATION:TX
END:VEVENT
BEGIN:VEVENT
DTSTART;TZID=America/Denver:20231004T120000
DTEND;TZID=America/Denver:20231004T130000
DTSTAMP:20260421T212238
CREATED:20230802T142753Z
LAST-MODIFIED:20230802T142753Z
UID:844-1696420800-1696424400@goldencrescentcasa.org
SUMMARY:Volunteer Luncheon
DESCRIPTION:Current and potential volunteers join for lunch once a month at the First United Methodist Church in Downtown Victoria\, TX. Each month features a guest speaker for volunteer continuing education and allows time for volunteers to connect with one another\, staff\, and board members. Please RSVP before each luncheon to ensure we have enough food for everyone in attendance. 361-573-3734
URL:https://goldencrescentcasa.org/event/volunteer-luncheon-3/
LOCATION:FUMC\, 407 N. Bridge St.\, Victoria\, TX\, 77901\, United States
END:VEVENT
BEGIN:VEVENT
DTSTART;TZID=America/Denver:20231007T080000
DTEND;TZID=America/Denver:20231007T120000
DTSTAMP:20260421T212238
CREATED:20231007T203201Z
LAST-MODIFIED:20231011T210653Z
UID:1018-1696665600-1696680000@goldencrescentcasa.org
SUMMARY:Jackson County Youth Fair Parade
DESCRIPTION:We need cheerleaders for CASA so come out 10/7 and join us at the Jackson County Youth Fair. The parade begins at 10:15 AM in\nEdna\, TX. The parade is downtown starting at McDonald’s on Allen St.
URL:https://goldencrescentcasa.org/event/jackson-county-youth-fair-parade/
LOCATION:TX
END:VEVENT
BEGIN:VEVENT
DTSTART;TZID=America/Denver:20231014T080000
DTEND;TZID=America/Denver:20231014T123000
DTSTAMP:20260421T212238
CREATED:20231011T201609Z
LAST-MODIFIED:20231011T201609Z
UID:1015-1697270400-1697286600@goldencrescentcasa.org
SUMMARY:Cuero Turkeyfest Parade
DESCRIPTION:Join us for the Turkey Fest Parade. Line-Up begins at 8 AM near the intersection of East South Railroad and Esplanade St. Then at 9:30 AM the judging starts so awards will be given before parade. The parade begins at 11AM ***Parade Route – Travel North down Esplanade\, turn right at McDonald’s\, ends on McLeod St. So\, come out and support CASA\, we will be entertaining the crowds while we march behind our decorated vehicle passing out candy. You can also sign up here volunteersignup.org/MHER7
URL:https://goldencrescentcasa.org/event/cuero-turkeyfest-parade/
LOCATION:TX
END:VEVENT
BEGIN:VEVENT
DTSTART;TZID=America/Denver:20231017T173000
DTEND;TZID=America/Denver:20231017T203000
DTSTAMP:20260421T212238
CREATED:20230804T171826Z
LAST-MODIFIED:20230804T171826Z
UID:872-1697563800-1697574600@goldencrescentcasa.org
SUMMARY:New Volunteer Training
DESCRIPTION:New volunteer training will be held on October 17\, 19\, 24\, and 26 at the Crossing\, 404 N. Bridge St.\, Victoria 77901. Please call Charlene Moreno for details 361-573-3734 x 106 or 361-649-2575
URL:https://goldencrescentcasa.org/event/new-volunteer-training/
LOCATION:TX
END:VEVENT
BEGIN:VEVENT
DTSTART;TZID=America/Denver:20231019T173000
DTEND;TZID=America/Denver:20231019T193000
DTSTAMP:20260421T212238
CREATED:20230809T232839Z
LAST-MODIFIED:20230809T232839Z
UID:894-1697736600-1697743800@goldencrescentcasa.org
SUMMARY:Annual CASA Supporter Party
DESCRIPTION:An evening hosted by Golden Crescent CASA and Deutsch & Deutsch Fine Jewelry to thank our annual donors and supporters.
URL:https://goldencrescentcasa.org/event/annual-casa-supporter-party/
LOCATION:Deutsch & Deutsch\, 6007 Zac Lentz Pkwy\, Victoria\, TX\, 77904\, United States
END:VEVENT
BEGIN:VEVENT
DTSTART;TZID=America/Denver:20231019T173000
DTEND;TZID=America/Denver:20231019T203000
DTSTAMP:20260421T212238
CREATED:20230804T171958Z
LAST-MODIFIED:20230804T171958Z
UID:874-1697736600-1697747400@goldencrescentcasa.org
SUMMARY:New Volunteer Training
DESCRIPTION:Day two of the new volunteer training will be held on October 17\, 19\, 24\, and 26 at the Crossing\, 404 N. Bridge St.\, Victoria 77901. Please call Charlene Moreno for details 361-573-3734 x 106 or 361-649-2575
URL:https://goldencrescentcasa.org/event/new-volunteer-training-2/
LOCATION:TX
END:VEVENT
BEGIN:VEVENT
DTSTART;TZID=America/Denver:20231024T173000
DTEND;TZID=America/Denver:20231024T193000
DTSTAMP:20260421T212238
CREATED:20231011T211824Z
LAST-MODIFIED:20231011T211824Z
UID:1026-1698168600-1698175800@goldencrescentcasa.org
SUMMARY:Trunk or Treat
DESCRIPTION:Join us for a fun evening with Region 3 ECI Trunk or Treat on October 24\, 2023\, from 5:30PM – 7:30PM located at 2907 Miori Lane\, Victoria\, TX 77901. Come out during this busy holiday season to spread awareness about our organization to the families that are in your community and also have fun networking. Click here to sign-up volunteersignup.org/BA7MH \n 
URL:https://goldencrescentcasa.org/event/trunk-or-treat-2/
LOCATION:TX
END:VEVENT
BEGIN:VEVENT
DTSTART;TZID=America/Denver:20231024T173000
DTEND;TZID=America/Denver:20231024T203000
DTSTAMP:20260421T212238
CREATED:20230804T172234Z
LAST-MODIFIED:20230804T172234Z
UID:876-1698168600-1698179400@goldencrescentcasa.org
SUMMARY:New Volunteer Training
DESCRIPTION:Day three of the new volunteer training will be held at the Crossing\, 404 N. Bridge St.\, Victoria 77901. Please call Charlene Moreno for details 361-573-3734 x 106 or 361-649-2575
URL:https://goldencrescentcasa.org/event/new-volunteer-training-3/
LOCATION:TX
END:VEVENT
BEGIN:VEVENT
DTSTART;TZID=America/Denver:20231026T090000
DTEND;TZID=America/Denver:20231026T190000
DTSTAMP:20260421T212238
CREATED:20231011T213344Z
LAST-MODIFIED:20231011T213344Z
UID:1032-1698310800-1698346800@goldencrescentcasa.org
SUMMARY:FUMC - Pumpkin Patch
DESCRIPTION:CASA staff and volunteers will be at 407 N. Bridge St.\, the First United Methodist Church on October 26\, from 9am – 7 pm helping with sales. This is a great way for us to show the First United Methodist Church how much we appreciate their support and all the things they do for CASA. Please sign up and help us support those who support our CASA mission! Click here to sign up volunteersignup.org/DD4HR
URL:https://goldencrescentcasa.org/event/fumc-pumpkin-patch/
LOCATION:TX
END:VEVENT
BEGIN:VEVENT
DTSTART;TZID=America/Denver:20231026T173000
DTEND;TZID=America/Denver:20231026T203000
DTSTAMP:20260421T212238
CREATED:20230804T172415Z
LAST-MODIFIED:20230804T172415Z
UID:878-1698341400-1698352200@goldencrescentcasa.org
SUMMARY:New Volunteer Training
DESCRIPTION:Last day of the new volunteer training will be at the Crossing\, 404 N. Bridge St.\, Victoria 77901. Please call Charlene Moreno for details 361-573-3734 x 106 or 361-649-2575
URL:https://goldencrescentcasa.org/event/new-volunteer-training-4/
LOCATION:TX
END:VEVENT
BEGIN:VEVENT
DTSTART;TZID=America/Denver:20231026T180000
DTEND;TZID=America/Denver:20231026T200000
DTSTAMP:20260421T212238
CREATED:20231011T212430Z
LAST-MODIFIED:20231011T212430Z
UID:1029-1698343200-1698350400@goldencrescentcasa.org
SUMMARY:Trunk or Treat
DESCRIPTION:Victoria Housing Authority -is hosting this Trunk or Treat on October 26th\, at 4001 Halsey St\, Victoria\, TX 77901 from 6PM – 8PM. Please help out during this busy Holiday Season to spread awareness about our organization to the families that are in your community while having fun and networking. Click volunteersignup.org/BRK89 to sign up for this volunteer opportunity!
URL:https://goldencrescentcasa.org/event/trunk-or-treat-3/
LOCATION:TX
END:VEVENT
END:VCALENDAR