BEGIN:VCALENDAR
VERSION:2.0
PRODID:-//Golden Crescent CASA, Inc. - ECPv6.15.18//NONSGML v1.0//EN
CALSCALE:GREGORIAN
METHOD:PUBLISH
X-WR-CALNAME:Golden Crescent CASA, Inc.
X-ORIGINAL-URL:https://goldencrescentcasa.org
X-WR-CALDESC:Events for Golden Crescent CASA, Inc.
REFRESH-INTERVAL;VALUE=DURATION:PT1H
X-Robots-Tag:noindex
X-PUBLISHED-TTL:PT1H
BEGIN:VTIMEZONE
TZID:America/Denver
BEGIN:DAYLIGHT
TZOFFSETFROM:-0700
TZOFFSETTO:-0600
TZNAME:MDT
DTSTART:20220313T090000
END:DAYLIGHT
BEGIN:STANDARD
TZOFFSETFROM:-0600
TZOFFSETTO:-0700
TZNAME:MST
DTSTART:20221106T080000
END:STANDARD
BEGIN:DAYLIGHT
TZOFFSETFROM:-0700
TZOFFSETTO:-0600
TZNAME:MDT
DTSTART:20230312T090000
END:DAYLIGHT
BEGIN:STANDARD
TZOFFSETFROM:-0600
TZOFFSETTO:-0700
TZNAME:MST
DTSTART:20231105T080000
END:STANDARD
BEGIN:DAYLIGHT
TZOFFSETFROM:-0700
TZOFFSETTO:-0600
TZNAME:MDT
DTSTART:20240310T090000
END:DAYLIGHT
BEGIN:STANDARD
TZOFFSETFROM:-0600
TZOFFSETTO:-0700
TZNAME:MST
DTSTART:20241103T080000
END:STANDARD
END:VTIMEZONE
BEGIN:VEVENT
DTSTART;TZID=America/Denver:20230906T120000
DTEND;TZID=America/Denver:20230906T130000
DTSTAMP:20260421T225121
CREATED:20230802T142709Z
LAST-MODIFIED:20230815T201706Z
UID:842-1694001600-1694005200@goldencrescentcasa.org
SUMMARY:Volunteer Luncheon
DESCRIPTION:Current and potential volunteers join for lunch once a month at the First United Methodist Church in Downtown Victoria\, TX. Each month features a guest speaker for volunteer continuing education and allows time for volunteers to connect with one another\, staff\, and board members. Please RSVP before each luncheon to ensure we have enough food for everyone in attendance. 361-573-3734
URL:https://goldencrescentcasa.org/event/volunteer-luncheon-2/
LOCATION:FUMC\, 407 N. Bridge St.\, Victoria\, TX\, 77901\, United States
END:VEVENT
BEGIN:VEVENT
DTSTART;TZID=America/Denver:20230921T173000
DTEND;TZID=America/Denver:20230921T183000
DTSTAMP:20260421T225121
CREATED:20230802T145945Z
LAST-MODIFIED:20230802T145945Z
UID:854-1695317400-1695321000@goldencrescentcasa.org
SUMMARY:Volunteer Peer to Peer Group Meeting
DESCRIPTION:Volunteer peer to peer group meeting to discuss all things CASA and volunteer related. This event is hosted by CASA and run by current volunteer Linda Owens.
URL:https://goldencrescentcasa.org/event/volunteer-peer-to-peer-group-meeting/
LOCATION:The Crossing\, 404 N Bridge St\, Victoria\, TX\, 77901\, United States
END:VEVENT
BEGIN:VEVENT
DTSTART;TZID=America/Denver:20230923T143000
DTEND;TZID=America/Denver:20230923T180000
DTSTAMP:20260421T225121
CREATED:20230815T193738Z
LAST-MODIFIED:20230815T193738Z
UID:901-1695479400-1695492000@goldencrescentcasa.org
SUMMARY:National Night Out
DESCRIPTION:Volunteer opportunities for “National Night Out Booth Event” are now open. Join CASA at the Children’s Pavilion located at the Riverside Park. We will have a booth full of games and goodies! Please click on the following web link (or copy it into your web browser if clicking doesn’t work) to go to the signup sheet: To sign up\, just follow the instructions on the page. It only takes a few seconds to do. \nvolunteersignup.org/4RQBM \nThank you for volunteering! \nCharlene Moreno\ncharlenem@goldencrescentcasa.org \n 
URL:https://goldencrescentcasa.org/event/national-night-out/
LOCATION:TX
END:VEVENT
END:VCALENDAR