BEGIN:VCALENDAR
VERSION:2.0
PRODID:-//Golden Crescent CASA, Inc. - ECPv6.15.18//NONSGML v1.0//EN
CALSCALE:GREGORIAN
METHOD:PUBLISH
X-WR-CALNAME:Golden Crescent CASA, Inc.
X-ORIGINAL-URL:https://goldencrescentcasa.org
X-WR-CALDESC:Events for Golden Crescent CASA, Inc.
REFRESH-INTERVAL;VALUE=DURATION:PT1H
X-Robots-Tag:noindex
X-PUBLISHED-TTL:PT1H
BEGIN:VTIMEZONE
TZID:America/Denver
BEGIN:DAYLIGHT
TZOFFSETFROM:-0700
TZOFFSETTO:-0600
TZNAME:MDT
DTSTART:20220313T090000
END:DAYLIGHT
BEGIN:STANDARD
TZOFFSETFROM:-0600
TZOFFSETTO:-0700
TZNAME:MST
DTSTART:20221106T080000
END:STANDARD
BEGIN:DAYLIGHT
TZOFFSETFROM:-0700
TZOFFSETTO:-0600
TZNAME:MDT
DTSTART:20230312T090000
END:DAYLIGHT
BEGIN:STANDARD
TZOFFSETFROM:-0600
TZOFFSETTO:-0700
TZNAME:MST
DTSTART:20231105T080000
END:STANDARD
BEGIN:DAYLIGHT
TZOFFSETFROM:-0700
TZOFFSETTO:-0600
TZNAME:MDT
DTSTART:20240310T090000
END:DAYLIGHT
BEGIN:STANDARD
TZOFFSETFROM:-0600
TZOFFSETTO:-0700
TZNAME:MST
DTSTART:20241103T080000
END:STANDARD
END:VTIMEZONE
BEGIN:VEVENT
DTSTART;TZID=America/Denver:20230802T120000
DTEND;TZID=America/Denver:20230802T133000
DTSTAMP:20260421T083950
CREATED:20230802T141229Z
LAST-MODIFIED:20230802T141229Z
UID:824-1690977600-1690983000@goldencrescentcasa.org
SUMMARY:Volunteer Luncheon
DESCRIPTION:Current and potential volunteers join for lunch once a month at the First United Methodist Church in Downtown Victoria\, TX. Each month features a guest speaker for volunteer continuing education and allows time for volunteers to connect with one another\, staff\, and board members. Please RSVP before each luncheon to ensure we have enough food for everyone in attendance. 361-573-3734
URL:https://goldencrescentcasa.org/event/volunteer-luncheon/
LOCATION:FUMC\, 407 N. Bridge St.\, Victoria\, TX\, 77901\, United States
END:VEVENT
END:VCALENDAR