BEGIN:VCALENDAR
VERSION:2.0
PRODID:-//Golden Crescent CASA, Inc. - ECPv6.15.18//NONSGML v1.0//EN
CALSCALE:GREGORIAN
METHOD:PUBLISH
X-ORIGINAL-URL:https://goldencrescentcasa.org
X-WR-CALDESC:Events for Golden Crescent CASA, Inc.
REFRESH-INTERVAL;VALUE=DURATION:PT1H
X-Robots-Tag:noindex
X-PUBLISHED-TTL:PT1H
BEGIN:VTIMEZONE
TZID:America/Denver
BEGIN:DAYLIGHT
TZOFFSETFROM:-0700
TZOFFSETTO:-0600
TZNAME:MDT
DTSTART:20250309T090000
END:DAYLIGHT
BEGIN:STANDARD
TZOFFSETFROM:-0600
TZOFFSETTO:-0700
TZNAME:MST
DTSTART:20251102T080000
END:STANDARD
BEGIN:DAYLIGHT
TZOFFSETFROM:-0700
TZOFFSETTO:-0600
TZNAME:MDT
DTSTART:20260308T090000
END:DAYLIGHT
BEGIN:STANDARD
TZOFFSETFROM:-0600
TZOFFSETTO:-0700
TZNAME:MST
DTSTART:20261101T080000
END:STANDARD
BEGIN:DAYLIGHT
TZOFFSETFROM:-0700
TZOFFSETTO:-0600
TZNAME:MDT
DTSTART:20270314T090000
END:DAYLIGHT
BEGIN:STANDARD
TZOFFSETFROM:-0600
TZOFFSETTO:-0700
TZNAME:MST
DTSTART:20271107T080000
END:STANDARD
END:VTIMEZONE
BEGIN:VEVENT
DTSTART;TZID=America/Denver:20260219T180000
DTEND;TZID=America/Denver:20260219T193000
DTSTAMP:20260420T110632
CREATED:20260112T174317Z
LAST-MODIFIED:20260112T174317Z
UID:1975-1771524000-1771529400@goldencrescentcasa.org
SUMMARY:Peer to Peer
DESCRIPTION:
URL:https://goldencrescentcasa.org/event/peer-to-peer-7/
LOCATION:CASA Office\, 101 W. Goodwin Ave\, Victoria\, TX\, 77901\, United States
END:VEVENT
BEGIN:VEVENT
DTSTART;TZID=America/Denver:20260319T180000
DTEND;TZID=America/Denver:20260319T193000
DTSTAMP:20260420T110632
CREATED:20260112T174428Z
LAST-MODIFIED:20260112T174428Z
UID:1977-1773943200-1773948600@goldencrescentcasa.org
SUMMARY:Peer to Peer
DESCRIPTION:
URL:https://goldencrescentcasa.org/event/peer-to-peer-8/
LOCATION:CASA Office\, 101 W. Goodwin Ave\, Victoria\, TX\, 77901\, United States
END:VEVENT
BEGIN:VEVENT
DTSTART;TZID=America/Denver:20260408T120000
DTEND;TZID=America/Denver:20260408T130000
DTSTAMP:20260420T110632
CREATED:20260112T174712Z
LAST-MODIFIED:20260112T174712Z
UID:1981-1775649600-1775653200@goldencrescentcasa.org
SUMMARY:Sharpening Skills Webinar: Rooted
DESCRIPTION:🖥️ Register in CASA College: https://casacollege.myabsorb.com/#/instructor-led-courses/e1b355c1-aa0a-4ba7-9c3f-000be54c7ba2 \nTheme: Rooted – Being steady\, thoughtful\, and grounded in the midst of a chaotic system. \nThis year-long webinar series is designed to support CASA volunteers in staying centered and effective as they navigate the complexities of child advocacy. Each quarter\, we’ll explore a different way to stay rooted — in the case\, the child\, yourself and your instincts. \nYour well-being is essential to your advocacy. \nThis webinar is a space for CASA volunteers and child advocates to reflect\, recharge\, and reconnect with their purpose. The work is meaningful—but it can also be emotionally demanding. Let’s talk about how to sustain your energy and mental health while showing up fully for the children you serve. \nIn this session\, we’ll explore: \n\nHow to recognize signs of secondary trauma\, compassion fatigue\, and burnout.\nPractical tools for setting boundaries\, saying no\, and checking in with yourself.\nWhen and how to reach out for support from your supervisor or team.\n\nYou’ll leave with strategies to help you stay grounded\, resilient\, and rooted in your own well-being—because caring for yourself is part of caring for others.
URL:https://goldencrescentcasa.org/event/sharpening-skills-webinar-rooted-2/
LOCATION:Online
END:VEVENT
BEGIN:VEVENT
DTSTART;TZID=America/Denver:20260416T180000
DTEND;TZID=America/Denver:20260416T193000
DTSTAMP:20260420T110632
CREATED:20260112T174517Z
LAST-MODIFIED:20260112T174517Z
UID:1979-1776362400-1776367800@goldencrescentcasa.org
SUMMARY:Peer to Peer
DESCRIPTION:
URL:https://goldencrescentcasa.org/event/peer-to-peer-9/
LOCATION:CASA Office\, 101 W. Goodwin Ave\, Victoria\, TX\, 77901\, United States
END:VEVENT
BEGIN:VEVENT
DTSTART;TZID=America/Denver:20260421T173000
DTEND;TZID=America/Denver:20260421T203000
DTSTAMP:20260420T110632
CREATED:20260213T223433Z
LAST-MODIFIED:20260213T223433Z
UID:2007-1776792600-1776803400@goldencrescentcasa.org
SUMMARY:New Volunteer Training: Day 1
DESCRIPTION:Join us for our upcoming 4 Day New Volunteer Training sessions on April 21\, 23\, 28\, and 30. Start out by filling out an Application on our Volunteer page of our website. Once the application is filled out and submitted\, we will reach out to you. Click this link to go to the application- Volunteer Application \nWe look forward to seeing you here!
URL:https://goldencrescentcasa.org/event/new-volunteer-training-day-1-2/
LOCATION:CASA Office\, 101 W. Goodwin Ave\, Victoria\, TX\, 77901\, United States
END:VEVENT
BEGIN:VEVENT
DTSTART;TZID=America/Denver:20260423T173000
DTEND;TZID=America/Denver:20260423T203000
DTSTAMP:20260420T110632
CREATED:20260213T223135Z
LAST-MODIFIED:20260213T223135Z
UID:2001-1776965400-1776976200@goldencrescentcasa.org
SUMMARY:New Volunteer Training: Day 2
DESCRIPTION:Join us for our upcoming 4 Day New Volunteer Training sessions on April 21\, 23\, 28\, and 30. Start out by filling out an Application on our Volunteer page of our website. Once the application is filled out and submitted\, we will reach out to you. Click this link to go to the application- Volunteer Application \nWe look forward to seeing you here!
URL:https://goldencrescentcasa.org/event/new-volunteer-training-day-2-4/
LOCATION:CASA Office\, 101 W. Goodwin Ave\, Victoria\, TX\, 77901\, United States
END:VEVENT
BEGIN:VEVENT
DTSTART;TZID=America/Denver:20260428T173000
DTEND;TZID=America/Denver:20260428T203000
DTSTAMP:20260420T110632
CREATED:20260213T223238Z
LAST-MODIFIED:20260213T223238Z
UID:2003-1777397400-1777408200@goldencrescentcasa.org
SUMMARY:New Volunteer Training: Day 3
DESCRIPTION:Join us for our upcoming 4 Day New Volunteer Training sessions on April 21\, 23\, 28\, and 30. Start out by filling out an Application on our Volunteer page of our website. Once the application is filled out and submitted\, we will reach out to you. Click this link to go to the application- Volunteer Application \nWe look forward to seeing you here!
URL:https://goldencrescentcasa.org/event/new-volunteer-training-day-3-4/
LOCATION:CASA Office\, 101 W. Goodwin Ave\, Victoria\, TX\, 77901\, United States
END:VEVENT
BEGIN:VEVENT
DTSTART;TZID=America/Denver:20260430T173000
DTEND;TZID=America/Denver:20260430T203000
DTSTAMP:20260420T110632
CREATED:20260213T223329Z
LAST-MODIFIED:20260213T223329Z
UID:2005-1777570200-1777581000@goldencrescentcasa.org
SUMMARY:New Volunteer Training: Day 4
DESCRIPTION:Join us for our upcoming 4 Day New Volunteer Training sessions on April 21\, 23\, 28\, and 30. Start out by filling out an Application on our Volunteer page of our website. Once the application is filled out and submitted\, we will reach out to you. Click this link to go to the application- Volunteer Application \nWe look forward to seeing you here!
URL:https://goldencrescentcasa.org/event/new-volunteer-training-day-4-4/
LOCATION:CASA Office\, 101 W. Goodwin Ave\, Victoria\, TX\, 77901\, United States
END:VEVENT
BEGIN:VEVENT
DTSTART;TZID=America/Denver:20260509T103000
DTEND;TZID=America/Denver:20260509T140000
DTSTAMP:20260420T110632
CREATED:20260313T144732Z
LAST-MODIFIED:20260313T144801Z
UID:2067-1778322600-1778335200@goldencrescentcasa.org
SUMMARY:Annual Mother's Day Brunch 2026
DESCRIPTION:Join us for a high tea–inspired Mother’s Day Brunch featuring live music\, a beautifully curated brunch\, refreshing beverages\, and exciting auction experiences. Gather your friends and celebrate while making a meaningful impact for children in foster care. \nIf you’re unable to attend but would still like to support our mission\, simply click the “Donate” button under “Sponsor Our Event” to help us reach our goal. \n\nEvent will include: \n\n\n\nEntertainment\nLive and Silent Auctions\nSignature High Tea Themed Drinks\nBrunch\, bar & so much more!\n\n\n\nSponsorship Levels: \n\n\n\nDiamond Sponsor – $1\,500\n\nIncludes: 8 Tickets\, Brunch & Activities\, Logo/Name on Event Program and Social Media Recognition\n\n\nGarden Party Sponsor- $1\,000\n\nIncludes: 6 Tickets\, Brunch & Activities\, Logo/Name on Event Program and Social Media Recognition\n\n\n\n\n\n\nSoiree Sponsor- $500\n\nIncludes: 4 Tickets\, Brunch & Activities\, Logo/Name on Event Program and Social Media Recognition
URL:https://goldencrescentcasa.org/event/2067/
LOCATION:Power Avenue Warehouse\, 402 E Power Ave\, Victoria\, TX\, 77901\, United States
END:VEVENT
END:VCALENDAR